BEGIN:VCALENDAR
VERSION:2.0
PRODID:Imitheme.com
BEGIN:VEVENT
UID:20260423T203815-836717550
DTSTAMP;TZID=UTC:1776976695
DTSTART;TZID=America/Los_Angeles:20260423T203815
DTEND;TZID=America/Los_Angeles:20260423T203815
SUMMARY:Bible Study
LOCATION:Dial: (717) 908-1636 Access Code: 924557#
DESCRIPTION: Get your day and week started off right by declaring the power of the Lord over your life. Join us every Thursday at 7:00 pm (PST) for our Bible Study. Dial: (717) 908-1636 Access Code: 924557# https://mhwministry.org/eventer/bible-study/
URL:https://mhwministry.org/eventer/bible-study/
END:VEVENT
END:VCALENDAR
